BEGIN:VCALENDAR
VERSION:2.0
PRODID:-//drki - ECPv6.15.16//NONSGML v1.0//EN
CALSCALE:GREGORIAN
METHOD:PUBLISH
X-WR-CALNAME:drki
X-ORIGINAL-URL:https://drki.de
X-WR-CALDESC:Veranstaltungen für drki
REFRESH-INTERVAL;VALUE=DURATION:PT1H
X-Robots-Tag:noindex
X-PUBLISHED-TTL:PT1H
BEGIN:VTIMEZONE
TZID:Europe/Berlin
BEGIN:DAYLIGHT
TZOFFSETFROM:+0100
TZOFFSETTO:+0200
TZNAME:CEST
DTSTART:20250330T010000
END:DAYLIGHT
BEGIN:STANDARD
TZOFFSETFROM:+0200
TZOFFSETTO:+0100
TZNAME:CET
DTSTART:20251026T010000
END:STANDARD
BEGIN:DAYLIGHT
TZOFFSETFROM:+0100
TZOFFSETTO:+0200
TZNAME:CEST
DTSTART:20260329T010000
END:DAYLIGHT
BEGIN:STANDARD
TZOFFSETFROM:+0200
TZOFFSETTO:+0100
TZNAME:CET
DTSTART:20261025T010000
END:STANDARD
BEGIN:DAYLIGHT
TZOFFSETFROM:+0100
TZOFFSETTO:+0200
TZNAME:CEST
DTSTART:20270328T010000
END:DAYLIGHT
BEGIN:STANDARD
TZOFFSETFROM:+0200
TZOFFSETTO:+0100
TZNAME:CET
DTSTART:20271031T010000
END:STANDARD
END:VTIMEZONE
BEGIN:VEVENT
DTSTART;TZID=Europe/Berlin:20260424T190000
DTEND;TZID=Europe/Berlin:20260424T210000
DTSTAMP:20260424T175206
CREATED:20260413T115839Z
LAST-MODIFIED:20260413T115845Z
UID:17519-1777057200-1777064400@drki.de
SUMMARY:Buchvorstellung mit der Autorin Inge Pardon „Tulpanow. Die Biografie“
DESCRIPTION:Titel Buchvorstellung mit der Autorin Inge Pardon „Tulpanow. Stalins Macher und Widersacher. Die Biografie“ Beschreibung Sergej Tulpanow lenkte als oberster sowjetischer Kulturoffizier 1945 bis 1949 den geistig-moralischen Neuaufbau der Ostdeutschen. Als 1945 die Russen kamen\, wurden die Ostdeutschen entnazifiziert und umerzogen. Einer\, der dafür verantwortlich war: Oberst Tulpanow. Sein Name geistert durch Memoiren und Geschichtsschreibung. Er gehörte zu den wichtigsten Nachkriegspolitikern in Deutschland und hat die Entwicklung bis 1990 maßgeblich beeinflusst. Die Öffentlichkeit sah in ihm nur einen russischen Kulturoffizier. Ein Irrtum. Der Sohn einer deutschen Jüdin war eine Schlüsselfigur in der sowjetischen Deutschlandpolitik. Von Stalin schon 1949 aus Berlin abberufen und in Leningrad in die Wissenschaft gesteckt\, durfte er erst 1965 wieder die Sowjetunion verlassen und deutschen Boden betreten. Seine Wirkungen aber blieben. Zeitlebens bemühte er sich um ein vernünftiges Verhältnis zwischen Russen und Deutschen\, er baute Brücken. Erste\, umfassende Biografie Tulpanows (1901–1984).
URL:https://drki.de/event/buchvorstellung-mit-der-autorin-inge-pardon-tulpanow-die-biografie/
ATTACH;FMTTYPE=image/webp:https://drki.de/wp-content/uploads/2026/04/Тюльпанов.webp
END:VEVENT
END:VCALENDAR